BEGIN:VCALENDAR
VERSION:2.0
PRODID:icalendar-ruby
CALSCALE:GREGORIAN
METHOD:PUBLISH
BEGIN:VEVENT
DTSTAMP:20260421T102837Z
UID:386-1048527@stmarynb.ca
DTSTART:20260502T200000Z
DTEND:20260502T230000Z
CLASS:PUBLIC
CREATED:20260415T130631
DESCRIPTION:
LAST-MODIFIED:20260415T130631
LOCATION:St. Mary NB
SUMMARY:Mother's Day High tea
URL;VALUE=URI:https://www.stmarynb.ca/events/mothers-day-high-tea/2026-05-0
 2
ATTACH;FILENAME=Tea Goodies.jpeg;FMTTYPE=image/jpeg:https://dq5pwpg1q8ru0.c
 loudfront.net/2026/04/15/20/06/31/873bd492-bb92-4ead-858a-dd6353eb7cb5/Tea
 %20Goodies.jpeg
ATTACH;FILENAME=Mothers Day Tea 2026.jpg;FMTTYPE=image/jpeg:https://dq5pwpg
 1q8ru0.cloudfront.net/2026/04/15/20/06/31/07a78cbc-a75c-4740-8724-eecdd771
 9e6f/Mothers%20Day%20Tea%202026.jpg
END:VEVENT
END:VCALENDAR
