BEGIN:VCALENDAR
VERSION:2.0
PRODID:icalendar-ruby
CALSCALE:GREGORIAN
METHOD:PUBLISH
BEGIN:VEVENT
DTSTAMP:20260423T073048Z
UID:222-1083995@stmarynb.ca
DTSTART:20261020T010000Z
DTEND:20261020T030000Z
CLASS:PUBLIC
CREATED:20260422T180537
DESCRIPTION:
LAST-MODIFIED:20260422T180537
LOCATION:Hall
SUMMARY:Westwood Karate Rental
URL;VALUE=URI:https://www.stmarynb.ca/events/westwood-karate-rental--222/20
 26-10-19
END:VEVENT
END:VCALENDAR
