BEGIN:VCALENDAR
VERSION:2.0
PRODID:icalendar-ruby
CALSCALE:GREGORIAN
METHOD:PUBLISH
BEGIN:VEVENT
DTSTAMP:20260423T101219Z
UID:222-1083997@stmarynb.ca
DTSTART:20261103T020000Z
DTEND:20261103T040000Z
CLASS:PUBLIC
CREATED:20260422T180537
DESCRIPTION:
LAST-MODIFIED:20260422T180537
LOCATION:Hall
SUMMARY:Westwood Karate Rental
URL;VALUE=URI:https://www.stmarynb.ca/events/westwood-karate-rental--222/20
 26-11-02
END:VEVENT
END:VCALENDAR
